Package: biodbUniprot Version: 1.11.0 Command: F:\biocbuild\bbs-3.20-bioc\R\bin\R.exe CMD check --no-multiarch --test-dir=longtests --no-stop-on-test-error --no-codoc --no-examples --no-manual --ignore-vignettes --check-subdirs=no biodbUniprot_1.11.0.tar.gz StartedAt: 2024-06-15 16:29:04 -0400 (Sat, 15 Jun 2024) EndedAt: 2024-06-15 16:37:54 -0400 (Sat, 15 Jun 2024) EllapsedTime: 530.0 seconds RetCode: 0 Status: OK CheckDir: biodbUniprot.Rcheck Warnings: 0