Package: beachmat Version: 2.22.0 Command: F:\biocbuild\bbs-3.20-bioc\R\bin\R.exe CMD check --no-multiarch --test-dir=longtests --no-stop-on-test-error --no-codoc --no-examples --no-manual --ignore-vignettes --check-subdirs=no beachmat_2.22.0.tar.gz StartedAt: 2025-01-25 16:02:49 -0500 (Sat, 25 Jan 2025) EndedAt: 2025-01-25 16:09:16 -0500 (Sat, 25 Jan 2025) EllapsedTime: 386.1 seconds RetCode: 0 Status: WARNINGS CheckDir: beachmat.Rcheck Warnings: 1