Package: beachmat Version: 2.22.0 Command: /home/biocbuild/bbs-3.20-bioc/R/bin/R CMD check --test-dir=longtests --no-stop-on-test-error --no-codoc --no-examples --no-manual --ignore-vignettes --check-subdirs=no beachmat_2.22.0.tar.gz StartedAt: 2025-01-25 16:01:14 -0500 (Sat, 25 Jan 2025) EndedAt: 2025-01-25 16:06:39 -0500 (Sat, 25 Jan 2025) EllapsedTime: 324.2 seconds RetCode: 0 Status: WARNINGS CheckDir: beachmat.Rcheck Warnings: 1