Package: EpiMix Version: 1.8.0 Command: /home/biocbuild/bbs-3.20-bioc/R/bin/R CMD check --test-dir=longtests --no-stop-on-test-error --no-codoc --no-examples --no-manual --ignore-vignettes --check-subdirs=no EpiMix_1.8.0.tar.gz StartedAt: 2025-01-25 16:10:45 -0500 (Sat, 25 Jan 2025) EndedAt: 2025-01-25 16:14:21 -0500 (Sat, 25 Jan 2025) EllapsedTime: 216.1 seconds RetCode: 0 Status: OK CheckDir: EpiMix.Rcheck Warnings: 0