Package: EpiMix Version: 1.8.0 Command: /Library/Frameworks/R.framework/Resources/bin/R CMD check --test-dir=longtests --no-stop-on-test-error --no-codoc --no-examples --no-manual --ignore-vignettes --check-subdirs=no EpiMix_1.8.0.tar.gz StartedAt: 2025-01-25 16:06:53 -0500 (Sat, 25 Jan 2025) EndedAt: 2025-01-25 16:11:36 -0500 (Sat, 25 Jan 2025) EllapsedTime: 282.7 seconds RetCode: 0 Status: OK CheckDir: EpiMix.Rcheck Warnings: 0