Package: EpiMix Version: 1.8.0 Command: /Library/Frameworks/R.framework/Resources/bin/R CMD check --test-dir=longtests --no-stop-on-test-error --no-codoc --no-examples --no-manual --ignore-vignettes --check-subdirs=no EpiMix_1.8.0.tar.gz StartedAt: 2024-11-16 16:17:15 -0500 (Sat, 16 Nov 2024) EndedAt: 2024-11-16 16:23:57 -0500 (Sat, 16 Nov 2024) EllapsedTime: 401.6 seconds RetCode: 0 Status: OK CheckDir: EpiMix.Rcheck Warnings: 0