Package: DropletUtils Version: 1.26.0 Command: /Library/Frameworks/R.framework/Resources/bin/R CMD check --test-dir=longtests --no-stop-on-test-error --no-codoc --no-examples --no-manual --ignore-vignettes --check-subdirs=no DropletUtils_1.26.0.tar.gz StartedAt: 2025-01-25 16:06:12 -0500 (Sat, 25 Jan 2025) EndedAt: 2025-01-25 16:16:17 -0500 (Sat, 25 Jan 2025) EllapsedTime: 604.6 seconds RetCode: 0 Status: OK CheckDir: DropletUtils.Rcheck Warnings: 0