Package: APAlyzer Version: 1.20.0 Command: F:\biocbuild\bbs-3.20-bioc\R\bin\R.exe CMD check --no-multiarch --test-dir=longtests --no-stop-on-test-error --no-codoc --no-examples --no-manual --ignore-vignettes --check-subdirs=no APAlyzer_1.20.0.tar.gz StartedAt: 2025-01-25 16:02:49 -0500 (Sat, 25 Jan 2025) EndedAt: 2025-01-25 16:07:03 -0500 (Sat, 25 Jan 2025) EllapsedTime: 253.6 seconds RetCode: 1 Status: ERROR CheckDir: APAlyzer.Rcheck Warnings: NA