Package: zlibbioc Version: 1.52.0 Command: rm -rf zlibbioc.buildbin-libdir && mkdir zlibbioc.buildbin-libdir && /Users/biocbuild/BBS/utils/build-universal.sh zlibbioc_1.52.0.tar.gz /Library/Frameworks/R.framework/Resources/bin/R zlibbioc.buildbin-libdir StartedAt: 2025-04-01 13:00:41 -0400 (Tue, 01 Apr 2025) EndedAt: 2025-04-01 13:00:53 -0400 (Tue, 01 Apr 2025) EllapsedTime: 11.8 seconds RetCode: 0 Status: OK PackageFile: zlibbioc_1.52.0.tgz PackageFileSize: 227.5 KiB