Package: zlibbioc Version: 1.52.0 Command: /Library/Frameworks/R.framework/Resources/bin/R CMD INSTALL zlibbioc StartedAt: 2025-03-31 15:03:07 -0400 (Mon, 31 Mar 2025) EndedAt: 2025-03-31 15:03:14 -0400 (Mon, 31 Mar 2025) EllapsedTime: 7.5 seconds RetCode: 0 Status: OK