Package: zitools Version: 1.0.0 Command: F:\biocbuild\bbs-3.20-bioc\R\bin\R.exe CMD check --no-multiarch --install=check:zitools.install-out.txt --library=F:\biocbuild\bbs-3.20-bioc\R\library --no-vignettes --timings zitools_1.0.0.tar.gz StartedAt: 2025-01-28 07:14:38 -0500 (Tue, 28 Jan 2025) EndedAt: 2025-01-28 07:21:00 -0500 (Tue, 28 Jan 2025) EllapsedTime: 381.5 seconds RetCode: 0 Status: WARNINGS CheckDir: zitools.Rcheck Warnings: 1