Package: zitools Version: 1.0.0 Command: /Library/Frameworks/R.framework/Resources/bin/R CMD INSTALL zitools StartedAt: 2025-02-03 16:27:35 -0500 (Mon, 03 Feb 2025) EndedAt: 2025-02-03 16:28:49 -0500 (Mon, 03 Feb 2025) EllapsedTime: 74.2 seconds RetCode: 0 Status: OK