Package: zitools Version: 1.0.0 Command: /Library/Frameworks/R.framework/Resources/bin/R CMD check --install=check:zitools.install-out.txt --library=/Library/Frameworks/R.framework/Resources/library --no-vignettes --timings zitools_1.0.0.tar.gz StartedAt: 2025-02-04 12:02:10 -0500 (Tue, 04 Feb 2025) EndedAt: 2025-02-04 12:09:44 -0500 (Tue, 04 Feb 2025) EllapsedTime: 454.2 seconds RetCode: 0 Status: WARNINGS CheckDir: zitools.Rcheck Warnings: 1