Package: zitools Version: 1.0.0 Command: /Library/Frameworks/R.framework/Resources/bin/R CMD build --keep-empty-dirs --no-resave-data zitools StartedAt: 2025-01-27 23:31:42 -0500 (Mon, 27 Jan 2025) EndedAt: 2025-01-27 23:34:35 -0500 (Mon, 27 Jan 2025) EllapsedTime: 172.7 seconds RetCode: 0 Status: OK PackageFile: zitools_1.0.0.tar.gz PackageFileSize: 242.4 KiB