Package: zitools Version: 1.0.0 Command: /Library/Frameworks/R.framework/Resources/bin/R CMD INSTALL zitools StartedAt: 2025-03-31 17:26:08 -0400 (Mon, 31 Mar 2025) EndedAt: 2025-03-31 17:26:48 -0400 (Mon, 31 Mar 2025) EllapsedTime: 40.2 seconds RetCode: 0 Status: OK