Package: zinbwave Version: 1.28.0 Command: /home/biocbuild/bbs-3.20-bioc/R/bin/R CMD check --install=check:zinbwave.install-out.txt --library=/home/biocbuild/bbs-3.20-bioc/R/site-library --timings zinbwave_1.28.0.tar.gz StartedAt: 2025-01-28 04:22:34 -0500 (Tue, 28 Jan 2025) EndedAt: 2025-01-28 04:28:36 -0500 (Tue, 28 Jan 2025) EllapsedTime: 362.4 seconds RetCode: 0 Status: OK CheckDir: zinbwave.Rcheck Warnings: 0