Package: zinbwave Version: 1.28.0 Command: /home/biocbuild/bbs-3.20-bioc/R/bin/R CMD build --keep-empty-dirs --no-resave-data --md5 zinbwave StartedAt: 2025-01-27 20:35:23 -0500 (Mon, 27 Jan 2025) EndedAt: 2025-01-27 20:37:18 -0500 (Mon, 27 Jan 2025) EllapsedTime: 114.6 seconds RetCode: 0 Status: OK PackageFile: zinbwave_1.28.0.tar.gz PackageFileSize: 490.7 KiB