Package: zinbwave Version: 1.28.0 Command: /Library/Frameworks/R.framework/Resources/bin/R CMD build --keep-empty-dirs --no-resave-data zinbwave StartedAt: 2025-03-31 22:55:25 -0400 (Mon, 31 Mar 2025) EndedAt: 2025-03-31 22:59:08 -0400 (Mon, 31 Mar 2025) EllapsedTime: 222.6 seconds RetCode: 0 Status: OK PackageFile: zinbwave_1.28.0.tar.gz PackageFileSize: 592.5 KiB