Package: zenith Version: 1.8.0 Command: /home/biocbuild/R/R/bin/R CMD build --keep-empty-dirs --no-resave-data zenith StartedAt: 2025-02-04 03:56:25 -0000 (Tue, 04 Feb 2025) EndedAt: 2025-02-04 03:58:18 -0000 (Tue, 04 Feb 2025) EllapsedTime: 112.7 seconds RetCode: 0 Status: OK PackageFile: zenith_1.8.0.tar.gz PackageFileSize: 4.156 MiB