Package: zenith Version: 1.8.0 Command: /Library/Frameworks/R.framework/Resources/bin/R CMD INSTALL zenith StartedAt: 2025-03-31 15:49:56 -0400 (Mon, 31 Mar 2025) EndedAt: 2025-03-31 15:50:49 -0400 (Mon, 31 Mar 2025) EllapsedTime: 52.6 seconds RetCode: 0 Status: OK