Package: zellkonverter Version: 1.16.0 Command: F:\biocbuild\bbs-3.20-bioc\R\bin\R.exe CMD INSTALL zellkonverter StartedAt: 2025-02-10 16:03:53 -0500 (Mon, 10 Feb 2025) EndedAt: 2025-02-10 16:04:27 -0500 (Mon, 10 Feb 2025) EllapsedTime: 33.9 seconds RetCode: 0 Status: OK