Package: zellkonverter Version: 1.16.0 Command: /Library/Frameworks/R.framework/Resources/bin/R CMD INSTALL zellkonverter StartedAt: 2025-02-10 15:19:14 -0500 (Mon, 10 Feb 2025) EndedAt: 2025-02-10 15:19:56 -0500 (Mon, 10 Feb 2025) EllapsedTime: 41.8 seconds RetCode: 0 Status: OK