Package: zFPKM Version: 1.28.0 Command: rm -rf zFPKM.buildbin-libdir && mkdir zFPKM.buildbin-libdir && F:\biocbuild\bbs-3.20-bioc\R\bin\R.exe CMD INSTALL --build --library=zFPKM.buildbin-libdir zFPKM_1.28.0.tar.gz StartedAt: 2025-02-04 09:46:51 -0500 (Tue, 04 Feb 2025) EndedAt: 2025-02-04 09:47:14 -0500 (Tue, 04 Feb 2025) EllapsedTime: 22.7 seconds RetCode: 0 Status: OK PackageFile: zFPKM_1.28.0.zip PackageFileSize: 77.75 KiB