Package: zFPKM Version: 1.28.0 Command: /Library/Frameworks/R.framework/Resources/bin/R CMD INSTALL zFPKM StartedAt: 2025-02-03 15:25:07 -0500 (Mon, 03 Feb 2025) EndedAt: 2025-02-03 15:25:55 -0500 (Mon, 03 Feb 2025) EllapsedTime: 47.4 seconds RetCode: 0 Status: OK