Package: zFPKM Version: 1.28.0 Command: /Library/Frameworks/R.framework/Resources/bin/R CMD INSTALL zFPKM StartedAt: 2025-02-03 15:35:33 -0500 (Mon, 03 Feb 2025) EndedAt: 2025-02-03 15:35:45 -0500 (Mon, 03 Feb 2025) EllapsedTime: 12.3 seconds RetCode: 0 Status: OK