Package: zFPKM Version: 1.28.0 Command: /Library/Frameworks/R.framework/Resources/bin/R CMD build --keep-empty-dirs --no-resave-data zFPKM StartedAt: 2025-02-04 10:42:10 -0500 (Tue, 04 Feb 2025) EndedAt: 2025-02-04 10:43:08 -0500 (Tue, 04 Feb 2025) EllapsedTime: 58.3 seconds RetCode: 0 Status: OK PackageFile: zFPKM_1.28.0.tar.gz PackageFileSize: 205.3 KiB