Package: yarn Version: 1.32.0 Command: /home/biocbuild/R/R/bin/R CMD INSTALL yarn StartedAt: 2025-01-30 21:05:16 -0000 (Thu, 30 Jan 2025) EndedAt: 2025-01-30 21:06:13 -0000 (Thu, 30 Jan 2025) EllapsedTime: 56.8 seconds RetCode: 0 Status: OK