Package: yarn Version: 1.32.0 Command: chmod a+r yarn -R && F:\biocbuild\bbs-3.20-bioc\R\bin\R.exe CMD build --keep-empty-dirs --no-resave-data yarn StartedAt: 2025-03-31 22:37:51 -0400 (Mon, 31 Mar 2025) EndedAt: 2025-03-31 22:39:36 -0400 (Mon, 31 Mar 2025) EllapsedTime: 105.5 seconds RetCode: 0 Status: OK PackageFile: yarn_1.32.0.tar.gz PackageFileSize: 2.975 MiB