Package: yarn Version: 1.32.0 Command: rm -rf yarn.buildbin-libdir && mkdir yarn.buildbin-libdir && /Users/biocbuild/BBS/utils/build-universal.sh yarn_1.32.0.tar.gz /Library/Frameworks/R.framework/Resources/bin/R yarn.buildbin-libdir StartedAt: 2025-04-01 13:00:11 -0400 (Tue, 01 Apr 2025) EndedAt: 2025-04-01 13:01:57 -0400 (Tue, 01 Apr 2025) EllapsedTime: 105.8 seconds RetCode: 0 Status: OK PackageFile: yarn_1.32.0.tgz PackageFileSize: 4.118 MiB