Package: yarn Version: 1.32.0 Command: /Library/Frameworks/R.framework/Resources/bin/R CMD INSTALL yarn StartedAt: 2025-03-31 18:00:26 -0400 (Mon, 31 Mar 2025) EndedAt: 2025-03-31 18:01:21 -0400 (Mon, 31 Mar 2025) EllapsedTime: 54.7 seconds RetCode: 0 Status: OK