Package: yamss Version: 1.32.0 Command: /home/biocbuild/R/R/bin/R CMD build --keep-empty-dirs --no-resave-data yamss StartedAt: 2025-01-31 03:30:44 -0000 (Fri, 31 Jan 2025) EndedAt: 2025-01-31 03:33:50 -0000 (Fri, 31 Jan 2025) EllapsedTime: 185.7 seconds RetCode: 0 Status: OK PackageFile: yamss_1.32.0.tar.gz PackageFileSize: 465.5 KiB