Package: yamss Version: 1.32.0 Command: /Library/Frameworks/R.framework/Resources/bin/R CMD INSTALL yamss StartedAt: 2025-03-31 15:51:21 -0400 (Mon, 31 Mar 2025) EndedAt: 2025-03-31 15:52:22 -0400 (Mon, 31 Mar 2025) EllapsedTime: 61.3 seconds RetCode: 0 Status: OK