Package: yamss Version: 1.32.0 Command: /Library/Frameworks/R.framework/Resources/bin/R CMD build --keep-empty-dirs --no-resave-data yamss StartedAt: 2025-03-31 22:54:55 -0400 (Mon, 31 Mar 2025) EndedAt: 2025-03-31 22:58:29 -0400 (Mon, 31 Mar 2025) EllapsedTime: 214.4 seconds RetCode: 0 Status: OK PackageFile: yamss_1.32.0.tar.gz PackageFileSize: 424.5 KiB