Package: yamss Version: 1.32.0 Command: rm -rf yamss.buildbin-libdir && mkdir yamss.buildbin-libdir && /Users/biocbuild/BBS/utils/build-universal.sh yamss_1.32.0.tar.gz /Library/Frameworks/R.framework/Resources/bin/R yamss.buildbin-libdir StartedAt: 2025-04-01 13:00:08 -0400 (Tue, 01 Apr 2025) EndedAt: 2025-04-01 13:01:20 -0400 (Tue, 01 Apr 2025) EllapsedTime: 71.8 seconds RetCode: 0 Status: OK PackageFile: yamss_1.32.0.tgz PackageFileSize: 731.2 KiB