Package: xenLite Version: 1.0.0 Command: /home/biocbuild/R/R/bin/R CMD INSTALL xenLite StartedAt: 2025-01-27 21:35:57 -0000 (Mon, 27 Jan 2025) EndedAt: 2025-01-27 21:36:37 -0000 (Mon, 27 Jan 2025) EllapsedTime: 40.2 seconds RetCode: 0 Status: OK