Package: xenLite Version: 1.0.0 Command: /home/biocbuild/R/R/bin/R CMD build --keep-empty-dirs --no-resave-data xenLite StartedAt: 2025-04-01 03:30:50 -0000 (Tue, 01 Apr 2025) EndedAt: 2025-04-01 03:40:16 -0000 (Tue, 01 Apr 2025) EllapsedTime: 565.3 seconds RetCode: 1 Status: ERROR PackageFile: None PackageFileSize: NA