Package: xenLite Version: 1.0.0 Command: /home/biocbuild/bbs-3.20-bioc/R/bin/R CMD check --install=check:xenLite.install-out.txt --library=/home/biocbuild/bbs-3.20-bioc/R/site-library --timings xenLite_1.0.0.tar.gz StartedAt: 2025-01-28 04:20:10 -0500 (Tue, 28 Jan 2025) EndedAt: 2025-01-28 04:24:59 -0500 (Tue, 28 Jan 2025) EllapsedTime: 288.7 seconds RetCode: 0 Status: OK CheckDir: xenLite.Rcheck Warnings: 0