Package: xenLite Version: 1.0.0 Command: /Library/Frameworks/R.framework/Resources/bin/R CMD INSTALL xenLite StartedAt: 2025-01-27 15:59:47 -0500 (Mon, 27 Jan 2025) EndedAt: 2025-01-27 16:00:58 -0500 (Mon, 27 Jan 2025) EllapsedTime: 70.3 seconds RetCode: 0 Status: OK