Package: xenLite Version: 1.0.0 Command: rm -rf xenLite.buildbin-libdir && mkdir xenLite.buildbin-libdir && /Users/biocbuild/BBS/utils/build-universal.sh xenLite_1.0.0.tar.gz /Library/Frameworks/R.framework/Resources/bin/R xenLite.buildbin-libdir StartedAt: 2025-01-28 14:52:37 -0500 (Tue, 28 Jan 2025) EndedAt: 2025-01-28 14:54:07 -0500 (Tue, 28 Jan 2025) EllapsedTime: 90.0 seconds RetCode: 0 Status: OK PackageFile: xenLite_1.0.0.tgz PackageFileSize: 3.018 MiB