Package: xenLite Version: 1.0.0 Command: /home/biocbuild/R/R/bin/R CMD build --keep-empty-dirs --no-resave-data xenLite StartedAt: 2024-11-20 04:46:10 -0000 (Wed, 20 Nov 2024) EndedAt: 2024-11-20 04:47:12 -0000 (Wed, 20 Nov 2024) EllapsedTime: 62.1 seconds RetCode: 1 Status: ERROR PackageFile: None PackageFileSize: NA