Package: xcore Version: 1.10.0 Command: /home/biocbuild/bbs-3.20-bioc/R/bin/R CMD INSTALL xcore StartedAt: 2025-01-27 16:34:48 -0500 (Mon, 27 Jan 2025) EndedAt: 2025-01-27 16:35:16 -0500 (Mon, 27 Jan 2025) EllapsedTime: 27.3 seconds RetCode: 0 Status: OK