Package: xcore Version: 1.10.0 Command: /Library/Frameworks/R.framework/Resources/bin/R CMD build --keep-empty-dirs --no-resave-data xcore StartedAt: 2025-04-01 10:03:42 -0400 (Tue, 01 Apr 2025) EndedAt: 2025-04-01 10:05:41 -0400 (Tue, 01 Apr 2025) EllapsedTime: 119.5 seconds RetCode: 0 Status: OK PackageFile: xcore_1.10.0.tar.gz PackageFileSize: 2.407 MiB