Package: xcms Version: 4.4.0 Command: /home/biocbuild/R/R/bin/R CMD build --keep-empty-dirs --no-resave-data xcms StartedAt: 2025-01-31 03:28:57 -0000 (Fri, 31 Jan 2025) EndedAt: 2025-01-31 03:35:25 -0000 (Fri, 31 Jan 2025) EllapsedTime: 387.5 seconds RetCode: 0 Status: OK PackageFile: xcms_4.4.0.tar.gz PackageFileSize: 5.713 MiB