Package: wppi Version: 1.14.0 Command: /Library/Frameworks/R.framework/Resources/bin/R CMD build --keep-empty-dirs --no-resave-data wppi StartedAt: 2025-01-28 10:16:05 -0500 (Tue, 28 Jan 2025) EndedAt: 2025-01-28 10:17:52 -0500 (Tue, 28 Jan 2025) EllapsedTime: 106.7 seconds RetCode: 0 Status: OK PackageFile: wppi_1.14.0.tar.gz PackageFileSize: 647 KiB