Package: wpm Version: 1.16.0 Command: /Library/Frameworks/R.framework/Resources/bin/R CMD build --keep-empty-dirs --no-resave-data wpm StartedAt: 2025-03-31 22:53:28 -0400 (Mon, 31 Mar 2025) EndedAt: 2025-03-31 22:54:09 -0400 (Mon, 31 Mar 2025) EllapsedTime: 41.6 seconds RetCode: 0 Status: OK PackageFile: wpm_1.16.0.tar.gz PackageFileSize: 2.429 MiB