Package: wpm Version: 1.16.0 Command: /Library/Frameworks/R.framework/Resources/bin/R CMD build --keep-empty-dirs --no-resave-data wpm StartedAt: 2025-04-01 10:02:58 -0400 (Tue, 01 Apr 2025) EndedAt: 2025-04-01 10:03:23 -0400 (Tue, 01 Apr 2025) EllapsedTime: 25.0 seconds RetCode: 0 Status: OK PackageFile: wpm_1.16.0.tar.gz PackageFileSize: 2.428 MiB