Package: wiggleplotr Version: 1.30.0 Command: /home/biocbuild/R/R/bin/R CMD INSTALL wiggleplotr StartedAt: 2025-01-27 21:20:44 -0000 (Mon, 27 Jan 2025) EndedAt: 2025-01-27 21:20:49 -0000 (Mon, 27 Jan 2025) EllapsedTime: 5.6 seconds RetCode: 0 Status: OK