Package: wiggleplotr Version: 1.30.0 Command: /home/biocbuild/R/R/bin/R CMD build --keep-empty-dirs --no-resave-data wiggleplotr StartedAt: 2025-04-01 03:29:56 -0000 (Tue, 01 Apr 2025) EndedAt: 2025-04-01 03:30:46 -0000 (Tue, 01 Apr 2025) EllapsedTime: 50.1 seconds RetCode: 0 Status: OK PackageFile: wiggleplotr_1.30.0.tar.gz PackageFileSize: 213.3 KiB