Package: wiggleplotr Version: 1.30.0 Command: F:\biocbuild\bbs-3.20-bioc\R\bin\R.exe CMD INSTALL wiggleplotr StartedAt: 2025-03-31 16:01:07 -0400 (Mon, 31 Mar 2025) EndedAt: 2025-03-31 16:01:34 -0400 (Mon, 31 Mar 2025) EllapsedTime: 26.9 seconds RetCode: 0 Status: OK