Package: wiggleplotr Version: 1.30.0 Command: chmod a+r wiggleplotr -R && F:\biocbuild\bbs-3.20-bioc\R\bin\R.exe CMD build --keep-empty-dirs --no-resave-data wiggleplotr StartedAt: 2025-03-31 22:36:08 -0400 (Mon, 31 Mar 2025) EndedAt: 2025-03-31 22:37:07 -0400 (Mon, 31 Mar 2025) EllapsedTime: 58.5 seconds RetCode: 0 Status: OK PackageFile: wiggleplotr_1.30.0.tar.gz PackageFileSize: 167 KiB